BEGIN:VCALENDAR
VERSION:2.0
CALSCALE:GREGORIAN
PRODID:-//Diputació de Barcelona//DibaCMS//EN
BEGIN:VEVENT
UID:2519
DTSTAMP:20260423T061157
DTSTART:20151211T000000
DTEND:20151213T000000
SUMMARY:FIRA DE SANTA LLÚCIA 2015
LOCATION:
METHOD:PUBLISH
X-WR-CALNAME:ullastrell@ullastrell.cat
X-WR-TIMEZONE:Europe/Madrid
DESCRIPTION:El proper divendres 11, dissabte 12 i diumenge 13 de desembre se celebrarà la Fira de Santa Llúcia a Ullastrell. Un cap de setmana carregat d'activitats i que, dissabte i diumenge, deixarà el carrer Serra ple de parades.
Tot seguit pots consultar el programa:
 
Lloc: SERRA - davant AjuntamentOrganitzador: 
URI:https://www.ullastrell.cat/actualitat/agenda/fira-de-santa-llucia-2015.html
CLASS:PUBLIC
END:VEVENT
END:VCALENDAR
