BEGIN:VCALENDAR
VERSION:2.0
CALSCALE:GREGORIAN
PRODID:-//Diputació de Barcelona//DibaCMS//EN
BEGIN:VEVENT
UID:2521
DTSTAMP:20260422T173329
DTSTART:20151220T120000
DTEND:20151220T000000
SUMMARY:TALLER DE CUINA D'APROFITAMENT
LOCATION:
METHOD:PUBLISH
X-WR-CALNAME:ullastrell@ullastrell.cat
X-WR-TIMEZONE:Europe/Madrid
DESCRIPTION:TALLER DE CUINA D'APROFITAMENT
DIUMENGE 20 DE DESEMBRE A LES 12H AL BAR DEL CASALLloc: BAR DEL CASALOrganitzador: 
URI:https://www.ullastrell.cat/actualitat/agenda/taller-de-cuina-daprofitament.html
CLASS:PUBLIC
END:VEVENT
END:VCALENDAR
