BEGIN:VCALENDAR
VERSION:2.0
CALSCALE:GREGORIAN
PRODID:-//Diputació de Barcelona//DibaCMS//EN
BEGIN:VEVENT
UID:2523
DTSTAMP:20260423T170729
DTSTART:20160105T180000
DTEND:20160105T000000
SUMMARY:CAVALCADA DE SS. MM. REIS MAGS DE L'ORIENT
LOCATION:
METHOD:PUBLISH
X-WR-CALNAME:ullastrell@ullastrell.cat
X-WR-TIMEZONE:Europe/Madrid
DESCRIPTION:El dia 5 arriben els Reis Mags a Ullastrell i hem d'estar ben alerta per anar-los a rebre com cal a la Font del Padró!
Recorregut: Carretera fins a la Font del Padró, Crta Terrassa, c/Serra, Av. i Pstg. Verge de Montserrat, Crta. Olesa per davant de Can Gras, Av. Verge de Montserrat, c/Serra i girarem a La Mola fins arribar al Casal per la carretera.
Entrega de Cartes: Els Reis Mags rebran a tots els infants d'Ullastrell a la Pista, segons l'ordre establert per l'organització.La Pista estarà tancada a l'accés fins que els Reis no hagin arribat al Casal, llavors s'obrirà i es faran dues cues; els nens que tinguin tiquets d'esquellots aniran a la cua de prioritat i seran els primers a donar la carta, una vegada finalitzada la cua s'iniciarà la segona cua de les persones que no tinguin tiquet.
IMPORTANT:

No es podrà aparcar al llarg del recorregut ja que sinó la Cavalcada no podrà passar.
Cal fer cas a l'ordre que marqui l'organització per a gaudir millor de la vetllada.
Vigileu als infants que no s'acostin a les rodes de les carrosses i tractors.

 Lloc: FONT DEL PADRÓOrganitzador: Reg. CULTURA
URI:https://www.ullastrell.cat/actualitat/agenda/2523-cavalcada-de-ss-mm-reis-mags-de-lorient.html
CLASS:PUBLIC
END:VEVENT
END:VCALENDAR
