BEGIN:VCALENDAR
VERSION:2.0
CALSCALE:GREGORIAN
PRODID:-//Diputació de Barcelona//DibaCMS//EN
BEGIN:VEVENT
UID:2524
DTSTAMP:20260423T034845
DTSTART:20160115T170000
DTEND:20160115T180000
SUMMARY:Berenar infantil de pa amb oli i sucre
LOCATION:
METHOD:PUBLISH
X-WR-CALNAME:ullastrell@ullastrell.cat
X-WR-TIMEZONE:Europe/Madrid
DESCRIPTION:Vine a fer un berenar típic de pa amb oli!
Nota:El carrer romandrà tancat fins a les 18:00h.Lloc: Davant AjuntamentOrganitzador: AMEU 
URI:https://www.ullastrell.cat/actualitat/agenda/berenar-infantil-de-pa-amb-oli-i-sucre.html
CLASS:PUBLIC
END:VEVENT
END:VCALENDAR
