BEGIN:VCALENDAR
VERSION:2.0
CALSCALE:GREGORIAN
PRODID:-//Diputació de Barcelona//DibaCMS//EN
BEGIN:VEVENT
UID:2525
DTSTAMP:20260423T134144
DTSTART:20160116T100000
DTEND:20160116T000000
SUMMARY:Caminada popular per les oliveres oblidades
LOCATION:
METHOD:PUBLISH
X-WR-CALNAME:ullastrell@ullastrell.cat
X-WR-TIMEZONE:Europe/Madrid
DESCRIPTION:Ruta: Pels voltants del municipi
Distància: 5-6 km
Durada aproximada: 2h amb parades incloses
Nivell: Fàcil, es pot fer amb nens
Persona de referència del grup de muntanya: Pere PaletLloc: Sortida: Plaça Lluís CompanysOrganitzador: Grup de Muntanya d'Ullastrell
URI:https://www.ullastrell.cat/actualitat/agenda/caminada-popular-per-les-oliveres-oblidades.html
CLASS:PUBLIC
END:VEVENT
END:VCALENDAR
