BEGIN:VCALENDAR
VERSION:2.0
CALSCALE:GREGORIAN
PRODID:-//Diputació de Barcelona//DibaCMS//EN
BEGIN:VEVENT
UID:2526
DTSTAMP:20260423T020021
DTSTART:20160116T200000
DTEND:20160116T000000
SUMMARY:Concurs de LLançament de Pinyols d'Oliva
LOCATION:
METHOD:PUBLISH
X-WR-CALNAME:ullastrell@ullastrell.cat
X-WR-TIMEZONE:Europe/Madrid
DESCRIPTION:Concurs de LLançament de Pinyols d'OlivaLloc: Pista poliesportivaOrganitzador: Associació Els Festucs
URI:https://www.ullastrell.cat/actualitat/agenda/concurs-de-llancament-de-pinyols-doliva.html
CLASS:PUBLIC
END:VEVENT
END:VCALENDAR
