BEGIN:VCALENDAR
VERSION:2.0
CALSCALE:GREGORIAN
PRODID:-//Diputació de Barcelona//DibaCMS//EN
BEGIN:VEVENT
UID:2527
DTSTAMP:20260423T065304
DTSTART:20160116T223000
DTEND:20160116T000000
SUMMARY:Concert Acústic de la cauntautora vallesana Aida Strings
LOCATION:
METHOD:PUBLISH
X-WR-CALNAME:ullastrell@ullastrell.cat
X-WR-TIMEZONE:Europe/Madrid
DESCRIPTION:Concert Acústic de la cauntautora vallesana Aida StringsLloc: Bar del CasalOrganitzador: 
URI:https://www.ullastrell.cat/actualitat/agenda/concert-acustic-de-la-cauntautora-vallesana-aida-strings.html
CLASS:PUBLIC
END:VEVENT
END:VCALENDAR
