BEGIN:VCALENDAR
VERSION:2.0
CALSCALE:GREGORIAN
PRODID:-//Diputació de Barcelona//DibaCMS//EN
BEGIN:VEVENT
UID:2528
DTSTAMP:20260423T103339
DTSTART:20160117T100000
DTEND:20160117T000000
SUMMARY:5a Fira de l'Oli i l'Oliva
LOCATION:
METHOD:PUBLISH
X-WR-CALNAME:ullastrell@ullastrell.cat
X-WR-TIMEZONE:Europe/Madrid
DESCRIPTION:Fira de l'Oli, visites al Molí d'Oli, Plantada de gegants, Tast de calçots, i un munt de coses més!

Programació del dia:Lloc: Pl. Joan MontmanyOrganitzador: 
URI:https://www.ullastrell.cat/actualitat/agenda/5a-fira-de-loli-i-loliva.html
CLASS:PUBLIC
END:VEVENT
END:VCALENDAR
