BEGIN:VCALENDAR
VERSION:2.0
CALSCALE:GREGORIAN
PRODID:-//Diputació de Barcelona//DibaCMS//EN
BEGIN:VEVENT
UID:2529
DTSTAMP:20260423T120813
DTSTART:20160117T183000
DTEND:20160117T000000
SUMMARY:TEATRE: CANSALADA CANCEL·LADA
LOCATION:
METHOD:PUBLISH
X-WR-CALNAME:ullastrell@ullastrell.cat
X-WR-TIMEZONE:Europe/Madrid
DESCRIPTION:Un actor i un director comencen a assajar una obra de teatre, però no aconsegueixen passar de la primera escena. Una comèdia que ens acosta al món de la creació teatral fent un paral·lelisme amb la creació del món, la vida és com un assaig que mai sabem com acabarà, necessitem directors, que tampoc serveixen si no hi poses de la teva part, i esperes sempre el Déu que ho arregli tot i que mai no arriba. Amb pinzellades Becketianes, aquest text ens ha fet riure i esperem que a vosaltres també.

 Direcció: Maria Miralda
Intèrprets: Ernest Castañé i Toni Garrich
Ajudant a la direcció: M Mercè Monterde
Disseny il·luminació i so: Maria Miralda
Als llums: Vicenç Lorenz
 
Diumenge 17 de gener del 2016 a 2/4 de 7 de la tarda al Casal CulturalLloc: Casal CulturalOrganitzador: GATU
URI:https://www.ullastrell.cat/actualitat/agenda/teatre-cansalada-cancellada.html
CLASS:PUBLIC
END:VEVENT
END:VCALENDAR
