BEGIN:VCALENDAR
VERSION:2.0
CALSCALE:GREGORIAN
PRODID:-//Diputació de Barcelona//DibaCMS//EN
BEGIN:VEVENT
UID:2530
DTSTAMP:20260423T061121
DTSTART:20160121T183000
DTEND:20160121T000000
SUMMARY:Xerrada nutricional: nens i esports
LOCATION:
METHOD:PUBLISH
X-WR-CALNAME:ullastrell@ullastrell.cat
X-WR-TIMEZONE:Europe/Madrid
DESCRIPTION:Xerrada nutricional: nens i esportsLloc: Sala d'ExposicionsOrganitzador: Club Futbol Ullastrell
URI:https://www.ullastrell.cat/actualitat/agenda/xerrada-nutricional-nens-i-esports.html
CLASS:PUBLIC
END:VEVENT
END:VCALENDAR
