BEGIN:VCALENDAR
VERSION:2.0
CALSCALE:GREGORIAN
PRODID:-//Diputació de Barcelona//DibaCMS//EN
BEGIN:VEVENT
UID:2531
DTSTAMP:20260423T045018
DTSTART:20160206T220000
DTEND:20160206T000000
SUMMARY:Ball de Carnaval
LOCATION:
METHOD:PUBLISH
X-WR-CALNAME:ullastrell@ullastrell.cat
X-WR-TIMEZONE:Europe/Madrid
DESCRIPTION:Ball de carnaval; amb premi a les millors disfresses.Lloc: Bar del CasalOrganitzador: 
URI:https://www.ullastrell.cat/actualitat/agenda/ball-de-carnaval.html
CLASS:PUBLIC
END:VEVENT
END:VCALENDAR
