BEGIN:VCALENDAR
VERSION:2.0
CALSCALE:GREGORIAN
PRODID:-//Diputació de Barcelona//DibaCMS//EN
BEGIN:VEVENT
UID:2532
DTSTAMP:20260423T172738
DTSTART:20160207T113000
DTEND:20160207T000000
SUMMARY:Rua infantil i espectacle d'animació infantil
LOCATION:
METHOD:PUBLISH
X-WR-CALNAME:ullastrell@ullastrell.cat
X-WR-TIMEZONE:Europe/Madrid
DESCRIPTION:Inici de la rua de carnestoltes infantil.
Per acabar al Patí de les Escoles, amb l'Espectacle d'Animació Infantil a càrrec de Pep Ayora i Companyia. Farem ballar cantar i riure als nens i nenes de totes les edats.
No es podrà aparcar a la plaça Luíc CompanysLloc: Plaça Lluís CompanysOrganitzador: 
URI:https://www.ullastrell.cat/actualitat/agenda/rua-infantil-i-espectacle-danimacio-infantil.html
CLASS:PUBLIC
END:VEVENT
END:VCALENDAR
