BEGIN:VCALENDAR
VERSION:2.0
CALSCALE:GREGORIAN
PRODID:-//Diputació de Barcelona//DibaCMS//EN
BEGIN:VEVENT
UID:2533
DTSTAMP:20260423T135212
DTSTART:20160207T190000
DTEND:20160207T000000
SUMMARY:Per carnaval, us espera l'artista local
LOCATION:
METHOD:PUBLISH
X-WR-CALNAME:ullastrell@ullastrell.cat
X-WR-TIMEZONE:Europe/Madrid
DESCRIPTION:Fons destinats als projectes de l'entitat local "Ullastrell Solidari".
Entrada General: 10€
Entrada infantil fins als 12 anys: 5€Lloc: Sala d'Actes del CasalOrganitzador: ULLASTRELL SOLIDARI
URI:https://www.ullastrell.cat/actualitat/agenda/2533-per-carnaval-us-espera-lartista-local.html
CLASS:PUBLIC
END:VEVENT
END:VCALENDAR
