BEGIN:VCALENDAR
VERSION:2.0
CALSCALE:GREGORIAN
PRODID:-//Diputació de Barcelona//DibaCMS//EN
BEGIN:VEVENT
UID:2534
DTSTAMP:20260423T003847
DTSTART:20160218T213000
DTEND:20160218T000000
SUMMARY:ACTE PÚBLIC GOVERN MUNICIPAL - Pla de Mandat 2015-2019
LOCATION:
METHOD:PUBLISH
X-WR-CALNAME:ullastrell@ullastrell.cat
X-WR-TIMEZONE:Europe/Madrid
DESCRIPTION:El Govern municipal presenta el Pla de Mandat 2015-2019.Lloc: Sala Actes del CasalOrganitzador: Ajuntament
URI:https://www.ullastrell.cat/actualitat/agenda/acte-public-govern-municipal-pla-de-mandat-2015-2019.html
CLASS:PUBLIC
END:VEVENT
END:VCALENDAR
