BEGIN:VCALENDAR
VERSION:2.0
CALSCALE:GREGORIAN
PRODID:-//Diputació de Barcelona//DibaCMS//EN
BEGIN:VEVENT
UID:2535
DTSTAMP:20260422T201316
DTSTART:20160302T000000
DTEND:20160306T000000
SUMMARY:FESTES DE SERRALAVELLA - 02/03/2016
LOCATION:
METHOD:PUBLISH
X-WR-CALNAME:ullastrell@ullastrell.cat
X-WR-TIMEZONE:Europe/Madrid
DESCRIPTION:Del 2 al 6 de març se celebren les XIª Festes de Serralavella.
Podeu consultar el programa a:
www.serralavella.catLloc: UllastrellOrganitzador: Ajuntament d'Ullastrell - Cumi. Quaresma
URI:https://www.ullastrell.cat/actualitat/agenda/festes-de-serralavella-02032016.html
CLASS:PUBLIC
END:VEVENT
END:VCALENDAR
