BEGIN:VCALENDAR
VERSION:2.0
CALSCALE:GREGORIAN
PRODID:-//Diputació de Barcelona//DibaCMS//EN
BEGIN:VEVENT
UID:2536
DTSTAMP:20260423T134820
DTSTART:20160322T120000
DTEND:20160322T130000
SUMMARY:OFICINA MÒBIL DEL CONSUMIDOR - 22/03/2016
LOCATION:
METHOD:PUBLISH
X-WR-CALNAME:ullastrell@ullastrell.cat
X-WR-TIMEZONE:Europe/Madrid
DESCRIPTION:Oficina móvil del consumidorL'oficina mòbil del consumidor és un servei gratuit ofert per la Diputació de Barcelona, on les persones podran fer consultes en materia de consum, sobre les seves factures de les companyies d'aigua, gas, electricitat, telefonia, també consultes sobre agencies de viatges, serveis prestats per botigues comerços etc.Lloc: Davant de l'AjuntamentOrganitzador: Ajuntament
URI:https://www.ullastrell.cat/actualitat/agenda/oficina-mobil-del-consumidor-22032016.html
CLASS:PUBLIC
END:VEVENT
END:VCALENDAR
