BEGIN:VCALENDAR
VERSION:2.0
CALSCALE:GREGORIAN
PRODID:-//Diputació de Barcelona//DibaCMS//EN
BEGIN:VEVENT
UID:2537
DTSTAMP:20260423T123827
DTSTART:20160317T213000
DTEND:20160317T230000
SUMMARY:JORNADES d'IGUALTAT - 17/03/2016
LOCATION:
METHOD:PUBLISH
X-WR-CALNAME:ullastrell@ullastrell.cat
X-WR-TIMEZONE:Europe/Madrid
DESCRIPTION:En el marc del Dia de la Dona, s'han organitzat una sèrie d'activitats englobades dins les Jornades d'Igualtat.
S'inicien aquest dijous amb la xerrada "Realitats familiars diverses" a càrrec de Gemma Sanchez i M. Ángeles Ruiz, membres de l'associació LGTB.I acabarem amb el passi del documental "Homo Baby Boom". 

 Lloc: Organitzador: Ajuntament d'Ullastrell
URI:https://www.ullastrell.cat/actualitat/agenda/jornades-digualtat-17032016.html
CLASS:PUBLIC
END:VEVENT
END:VCALENDAR
