BEGIN:VCALENDAR
VERSION:2.0
CALSCALE:GREGORIAN
PRODID:-//Diputació de Barcelona//DibaCMS//EN
BEGIN:VEVENT
UID:2538
DTSTAMP:20260423T075302
DTSTART:20160318T190000
DTEND:20160318T000000
SUMMARY:JORNADES d'IGUALTAT - 18/03/2016
LOCATION:
METHOD:PUBLISH
X-WR-CALNAME:ullastrell@ullastrell.cat
X-WR-TIMEZONE:Europe/Madrid
DESCRIPTION:En el marc del Dia de la Dona, s'han organitzat una sèrie d'activitats englobades dins les Jornades d'Igualtat.
Avui divendres us esperem a les 7h. de la tarda al Casal!Lloc: Bar del CasalOrganitzador: Ajuntament d'Ullastrell
URI:https://www.ullastrell.cat/actualitat/agenda/jornades-digualtat-18032016.html
CLASS:PUBLIC
END:VEVENT
END:VCALENDAR
