BEGIN:VCALENDAR
VERSION:2.0
CALSCALE:GREGORIAN
PRODID:-//Diputació de Barcelona//DibaCMS//EN
BEGIN:VEVENT
UID:2539
DTSTAMP:20260423T153511
DTSTART:20160319T183000
DTEND:20160319T000000
SUMMARY:BALLADA DE SWING
LOCATION:
METHOD:PUBLISH
X-WR-CALNAME:ullastrell@ullastrell.cat
X-WR-TIMEZONE:Europe/Madrid
DESCRIPTION:És la tercera actuació que s'engloba dins del Festival de Jazz Terrassa que fem a Ullastrell, una Ballada de Swing a càrrec del grup SWING OUT! i amb els membres dels Terrassa Hoppers.
 
Activitat inclosa dins de les Jornades d'Igualtat 2016.Lloc: Pista Organitzador: Ajuntament d'Ullastrell
URI:https://www.ullastrell.cat/actualitat/agenda/ballada-de-swing.html
CLASS:PUBLIC
END:VEVENT
END:VCALENDAR
