BEGIN:VCALENDAR
VERSION:2.0
CALSCALE:GREGORIAN
PRODID:-//Diputació de Barcelona//DibaCMS//EN
BEGIN:VEVENT
UID:2540
DTSTAMP:20260423T185319
DTSTART:20160319T203000
DTEND:20160319T000000
SUMMARY:SOPAR I CONCERT AMB "OVELLAXAO"
LOCATION:
METHOD:PUBLISH
X-WR-CALNAME:ullastrell@ullastrell.cat
X-WR-TIMEZONE:Europe/Madrid
DESCRIPTION:Per acabar les Jornades d'Igualtat, s'organitza un sopar al Bar del Casal on acabarem amb la música en directe del grup OVELLA XAO.
 
Per apuntar-se pel sopar cal trucar al Bar del Casal : 937331051
Preu tiquet: 10€
 
http://www.ovellaxao.com/Lloc: Bar del CasalOrganitzador: Ajuntament d'Ullastrell
URI:https://www.ullastrell.cat/actualitat/agenda/sopar-i-concert-amb-ovellaxao.html
CLASS:PUBLIC
END:VEVENT
END:VCALENDAR
