BEGIN:VCALENDAR
VERSION:2.0
CALSCALE:GREGORIAN
PRODID:-//Diputació de Barcelona//DibaCMS//EN
BEGIN:VEVENT
UID:2542
DTSTAMP:20260423T134656
DTSTART:20160403T123000
DTEND:20160403T000000
SUMMARY:FESTA DE LA GENT GRAN - 03/04/2016
LOCATION:
METHOD:PUBLISH
X-WR-CALNAME:ullastrell@ullastrell.cat
X-WR-TIMEZONE:Europe/Madrid
DESCRIPTION:Diada d'homenatge a la Gent Gran d'Ullastrell.
12:30h. Ofici solemne per a totes i tots els homenatjats.Al finalitzar la missa, hi haurà la Gran Cantada de Caramelles
Seguidament...VERMUT DE CELEBRACIÓ al gimnàs de l'antiga escola (pl. de les Escoles)
18:00h. TEATRE amb l'obra "Abans que pugui el teló" amb Jaume Pla. (entrada gratuïta)
 
Al matí es farà una visita a les dues persones més grans del poble, l'Angeleta de Cal Maurici i al Jaume de Ca l'Isidret.
 
 Lloc: Organitzador: Ajuntament d'Ullastrell
URI:https://www.ullastrell.cat/actualitat/agenda/festa-de-la-gent-gran-03042016.html
CLASS:PUBLIC
END:VEVENT
END:VCALENDAR
