BEGIN:VCALENDAR
VERSION:2.0
CALSCALE:GREGORIAN
PRODID:-//Diputació de Barcelona//DibaCMS//EN
BEGIN:VEVENT
UID:2543
DTSTAMP:20260423T104859
DTSTART:20160420T200000
DTEND:20160420T000000
SUMMARY:PLE ORDINÀRI - 20/04/2016
LOCATION:
METHOD:PUBLISH
X-WR-CALNAME:ullastrell@ullastrell.cat
X-WR-TIMEZONE:Europe/Madrid
DESCRIPTION:Com cada trimestre es porta a terme el Ple Ordinari.Lloc: SALA DE PLENSOrganitzador: Ajuntament d'Ullastrell
URI:https://www.ullastrell.cat/actualitat/agenda/ple-ordinari-20042016.html
CLASS:PUBLIC
END:VEVENT
END:VCALENDAR
