BEGIN:VCALENDAR
VERSION:2.0
CALSCALE:GREGORIAN
PRODID:-//Diputació de Barcelona//DibaCMS//EN
BEGIN:VEVENT
UID:2544
DTSTAMP:20260422T215929
DTSTART:20160425T203000
DTEND:20160425T000000
SUMMARY:REUNIÓ DE BARRI a... Ca n'Amat-La Vall
LOCATION:
METHOD:PUBLISH
X-WR-CALNAME:ullastrell@ullastrell.cat
X-WR-TIMEZONE:Europe/Madrid
DESCRIPTION:Amb la voluntat d'escoltar de prop les diferents opinions dels veïns, propostes, crítiques, idees, suggerències, queixes,...El Govern municipal va engegar les "Reunions de Barri".
Us convidem a assistir a la pròxima reunió del barri deCA N'AMAT - LA VALL el pròxim:
DILLUNS 25 d'abril de 2016A les 20:30h.Local de l'Associació de Veïns (Zona Esportiva)
Per qualsevol dubte o consulta us podeu posar en contacte al telèfon 93.788.72.62 o al mail ullastrell@ullastrell.cat
Us hi esperem!
 Lloc: Local de l'Associació de VeïnsOrganitzador: Ajuntament d'Ullastrell
URI:https://www.ullastrell.cat/actualitat/agenda/reunio-de-barri-a-ca-namat-la-vall.html
CLASS:PUBLIC
END:VEVENT
END:VCALENDAR
