BEGIN:VCALENDAR
VERSION:2.0
CALSCALE:GREGORIAN
PRODID:-//Diputació de Barcelona//DibaCMS//EN
BEGIN:VEVENT
UID:2545
DTSTAMP:20260423T051445
DTSTART:20160503T120000
DTEND:20160503T130000
SUMMARY:OFICINA MÒBIL DEL CONSUMIDOR - 03/05/2016
LOCATION:
METHOD:PUBLISH
X-WR-CALNAME:ullastrell@ullastrell.cat
X-WR-TIMEZONE:Europe/Madrid
DESCRIPTION:OFICINA MÒBIL DEL CONSUMIDORL'oficina mòbil del consumidor és un servei gratuït que s'ofereix a la població, on podeu consultar tot tipus de dubtes o reclamacions del consumidor, tals com, rebuts de telefonia, electriques, agencies de viatges, botigues en general.Lloc: DAVANT DE L'AJUNTAMENTOrganitzador: AJUNTAMENT
URI:https://www.ullastrell.cat/actualitat/agenda/oficina-mobil-del-consumidor-03052016.html
CLASS:PUBLIC
END:VEVENT
END:VCALENDAR
