BEGIN:VCALENDAR
VERSION:2.0
CALSCALE:GREGORIAN
PRODID:-//Diputació de Barcelona//DibaCMS//EN
BEGIN:VEVENT
UID:2546
DTSTAMP:20260422T125058
DTSTART:20150723T213000
DTEND:20150723T000000
SUMMARY:CONCERT CORAL D'ULLASTRELL
LOCATION:
METHOD:PUBLISH
X-WR-CALNAME:ullastrell@ullastrell.cat
X-WR-TIMEZONE:Europe/Madrid
DESCRIPTION:Concert englobat dins els dijous musicals d'estiuLa Coral de Viladecavalls cada estiu organitza els dijous musicals convidant a diferents corals a participar-hi, aquest dijous la Coral convidada és la Coral d'UllastrellLloc: ESGLÈSIA DE SANT MARTÍ DEL SORBET VILADECAVALLSOrganitzador: CORAL DE VILADECAVALLS
URI:https://www.ullastrell.cat/actualitat/agenda/2546-concert-coral-dullastrell.html
CLASS:PUBLIC
END:VEVENT
END:VCALENDAR
