BEGIN:VCALENDAR
VERSION:2.0
CALSCALE:GREGORIAN
PRODID:-//Diputació de Barcelona//DibaCMS//EN
BEGIN:VEVENT
UID:2547
DTSTAMP:20260422T112003
DTSTART:20150718T170000
DTEND:20150718T000000
SUMMARY:SORTIDA GEGANTERA - 18/07/2015
LOCATION:
METHOD:PUBLISH
X-WR-CALNAME:ullastrell@ullastrell.cat
X-WR-TIMEZONE:Europe/Madrid
DESCRIPTION:SORTIDA DELS GEGANTSSORTIDA DE GEGANTERS I GRALLERS D'ULLASTRELL, AL POBLE DE CALAFELLLloc: CALAFELL POBLEOrganitzador: GEGANTERS D'ULLASTRELL
URI:https://www.ullastrell.cat/actualitat/agenda/sortida-gegantera-18072015.html
CLASS:PUBLIC
END:VEVENT
END:VCALENDAR
