BEGIN:VCALENDAR
VERSION:2.0
CALSCALE:GREGORIAN
PRODID:-//Diputació de Barcelona//DibaCMS//EN
BEGIN:VEVENT
UID:2548
DTSTAMP:20260422T142431
DTSTART:20150725T170000
DTEND:20150725T000000
SUMMARY:SORTIDA GEGANTERA - 25/07/2015
LOCATION:
METHOD:PUBLISH
X-WR-CALNAME:ullastrell@ullastrell.cat
X-WR-TIMEZONE:Europe/Madrid
DESCRIPTION:SORTIDA GEGANTERASORTIDA DE GEGANTS I GRALLERS A SANT VICENÇ DELS HORTSLloc: SANT VICENÇ DELS HORTSOrganitzador: GEGANTERS D'ULLASTRELL
URI:https://www.ullastrell.cat/actualitat/agenda/sortida-gegantera-25072015.html
CLASS:PUBLIC
END:VEVENT
END:VCALENDAR
