BEGIN:VCALENDAR
VERSION:2.0
CALSCALE:GREGORIAN
PRODID:-//Diputació de Barcelona//DibaCMS//EN
BEGIN:VEVENT
UID:2551
DTSTAMP:20260422T113300
DTSTART:20150920T000000
DTEND:20150920T000000
SUMMARY:SORTIDA GEGANTERA A TERRASSA
LOCATION:
METHOD:PUBLISH
X-WR-CALNAME:ullastrell@ullastrell.cat
X-WR-TIMEZONE:Europe/Madrid
DESCRIPTION:Els gegants d'Ullastrell van a passejar a Terrassa, ciutat gegantera.Lloc: TERRASSAOrganitzador: GEGANTERS D'ULLASTRELL
URI:https://www.ullastrell.cat/actualitat/agenda/sortida-gegantera-a-terrassa.html
CLASS:PUBLIC
END:VEVENT
END:VCALENDAR
