BEGIN:VCALENDAR
VERSION:2.0
CALSCALE:GREGORIAN
PRODID:-//Diputació de Barcelona//DibaCMS//EN
BEGIN:VEVENT
UID:2552
DTSTAMP:20260422T173457
DTSTART:20150927T000000
DTEND:20150927T000000
SUMMARY:SORTIDA GEGANTERA A VALLGORGUINA
LOCATION:
METHOD:PUBLISH
X-WR-CALNAME:ullastrell@ullastrell.cat
X-WR-TIMEZONE:Europe/Madrid
DESCRIPTION:Sortida dels Gegants d'Ullastrell al poble de Vallgorguina.Lloc: VALLGORGUINAOrganitzador: GEGANTERS D'ULLASTRELL
URI:https://www.ullastrell.cat/actualitat/agenda/sortida-gegantera-a-vallgorguina.html
CLASS:PUBLIC
END:VEVENT
END:VCALENDAR
