BEGIN:VCALENDAR
VERSION:2.0
CALSCALE:GREGORIAN
PRODID:-//Diputació de Barcelona//DibaCMS//EN
BEGIN:VEVENT
UID:2554
DTSTAMP:20260422T113324
DTSTART:20150916T160000
DTEND:20150916T190000
SUMMARY:BIBLIOBÚS "La Mola" - 16/09/2015
LOCATION:
METHOD:PUBLISH
X-WR-CALNAME:ullastrell@ullastrell.cat
X-WR-TIMEZONE:Europe/Madrid
DESCRIPTION:Com cada dimecres ens visita el Bibliobús La Mola, per donar servei de préstec de llibres, Cd's, DVD's.. al municipi d'Ullastrell i així fer de reforç del servei de la biblioteca municipal.
*Recordem que a partir de les 15h. no es podrà aparcar a la zona així marcada de l'aparcament de sota del Casal per poder deixar pas a l'entrada del Bibliobús.
 Lloc: Lateral Pista / Sota la BibliotecaOrganitzador: Biblioteca Josep Massagué
URI:https://www.ullastrell.cat/actualitat/agenda/bibliobus-la-mola-16092015.html
CLASS:PUBLIC
END:VEVENT
END:VCALENDAR
