BEGIN:VCALENDAR
VERSION:2.0
CALSCALE:GREGORIAN
PRODID:-//Diputació de Barcelona//DibaCMS//EN
BEGIN:VEVENT
UID:2558
DTSTAMP:20260422T131457
DTSTART:20150930T163000
DTEND:20150930T200000
SUMMARY:ÚLTIM DIA - Ir. Concurs Literari
LOCATION:
METHOD:PUBLISH
X-WR-CALNAME:ullastrell@ullastrell.cat
X-WR-TIMEZONE:Europe/Madrid
DESCRIPTION:Dimecres 30 és l'últim dia per presentar les obres del Ir. CONCURS LITERARI que organitza la Biblioteca municipal Josep MassaguéDins del 30è aniversari de la Biblioteca municipal Josep Massagué, es convoca el Ir. Concurs Literari aquest mes de setembre coincidint amb el 104è aniversari del naixement del Sr. Massagué, que dóna nom a la Biblioteca.

 El concurs està obert a persones majors de 18 anys.
 L'obra ha d'estar escrita en català, en narrativa curta i temari lliure.
 La data límit d'entrega és el dimecres 30 de setembre de 2015 a les 20h. a la Biblioteca municipal.

El premi consistirà en un llibre electrònic.
Podeu llegir les bases completes en el fitxer adjunt, així com recollir-les en paper a la Biblioteca.
 
 Lloc: Organitzador: Biblioteca Josep Massagué
URI:https://www.ullastrell.cat/actualitat/agenda/ultim-dia-ir-concurs-literari.html
CLASS:PUBLIC
END:VEVENT
END:VCALENDAR
