BEGIN:VCALENDAR
VERSION:2.0
CALSCALE:GREGORIAN
PRODID:-//Diputació de Barcelona//DibaCMS//EN
BEGIN:VEVENT
UID:2560
DTSTAMP:20260423T044228
DTSTART:20151010T180000
DTEND:20151010T000000
SUMMARY:HOMENATGE AL PRESIDENT LLUÍS COMPANYS
LOCATION:
METHOD:PUBLISH
X-WR-CALNAME:ullastrell@ullastrell.cat
X-WR-TIMEZONE:Europe/Madrid
DESCRIPTION:En el 75è aniversari de l'afusellament del President Companys, el dissabte 10 d'Octubre a la tarda es portarà a terme els actes d'homenatge:
 

A les 18h.a la Pl. Lluís Companys, 

OFRENA FLORAL i PARLAMENTS


 Seguidament, a la Sala Actes del Casal, 

Projecció de la pel.lícula: "13 DIES D'OCTUBRE" (Entrada gratuïta)

Lloc: Pl. Lluís CompanysOrganitzador: ANC - Ullastrell
URI:https://www.ullastrell.cat/actualitat/agenda/homenatge-al-president-lluis-companys.html
CLASS:PUBLIC
END:VEVENT
END:VCALENDAR
