BEGIN:VCALENDAR
VERSION:2.0
CALSCALE:GREGORIAN
PRODID:-//Diputació de Barcelona//DibaCMS//EN
BEGIN:VEVENT
UID:2561
DTSTAMP:20260422T201353
DTSTART:20151011T190000
DTEND:20151011T000000
SUMMARY:CINEMA  INFANTIL
LOCATION:
METHOD:PUBLISH
X-WR-CALNAME:ullastrell@ullastrell.cat
X-WR-TIMEZONE:Europe/Madrid
DESCRIPTION:Cinema infantil
Vine a passar una bona tarda de diumenge al Casal amb els més menuts de casa!
Entrada gratuïta.Lloc: Sala Actes - Casal CulturalOrganitzador: Patronat Casal
URI:https://www.ullastrell.cat/actualitat/agenda/cinema-infantil.html
CLASS:PUBLIC
END:VEVENT
END:VCALENDAR
