BEGIN:VCALENDAR
VERSION:2.0
CALSCALE:GREGORIAN
PRODID:-//Diputació de Barcelona//DibaCMS//EN
BEGIN:VEVENT
UID:2562
DTSTAMP:20260423T044418
DTSTART:20151014T160000
DTEND:20151014T190000
SUMMARY:BIBLIOBÚS "La Mola" - 14/10/2015
LOCATION:
METHOD:PUBLISH
X-WR-CALNAME:ullastrell@ullastrell.cat
X-WR-TIMEZONE:Europe/Madrid
DESCRIPTION:Com cada dimecres ens visita el Bibliobús La Mola, per donar servei de préstec de llibres, Cd's, DVD's.. al municipi d'Ullastrell i així fer de reforç del servei de la biblioteca municipal.
*Recordem que a partir de les 15h. no es podrà aparcar a la zona així marcada de l'aparcament de sota del Casal per poder deixar pas a l'entrada del Bibliobús.
 
 Lloc: Lateral Pista - Sota la bibliotecaOrganitzador: Biblioteca Josep Massagué
URI:https://www.ullastrell.cat/actualitat/agenda/bibliobus-la-mola-14102015.html
CLASS:PUBLIC
END:VEVENT
END:VCALENDAR
