BEGIN:VCALENDAR
VERSION:2.0
CALSCALE:GREGORIAN
PRODID:-//Diputació de Barcelona//DibaCMS//EN
BEGIN:VEVENT
UID:2564
DTSTAMP:20260423T045202
DTSTART:20151018T190000
DTEND:20151018T000000
SUMMARY:CINEMA - 18/10/2015
LOCATION:
METHOD:PUBLISH
X-WR-CALNAME:ullastrell@ullastrell.cat
X-WR-TIMEZONE:Europe/Madrid
DESCRIPTION:Cinema.
Entrada gratuïtaLloc: Sala d'ActesOrganitzador: Patronat del Casal
URI:https://www.ullastrell.cat/actualitat/agenda/cinema-18102015.html
CLASS:PUBLIC
END:VEVENT
END:VCALENDAR
