BEGIN:VCALENDAR
VERSION:2.0
CALSCALE:GREGORIAN
PRODID:-//Diputació de Barcelona//DibaCMS//EN
BEGIN:VEVENT
UID:2566
DTSTAMP:20260422T175629
DTSTART:20151101T180000
DTEND:20151101T000000
SUMMARY:TEATRE INFANTIL:  DINS LA PANXA DEL LLOP
LOCATION:
METHOD:PUBLISH
X-WR-CALNAME:ullastrell@ullastrell.cat
X-WR-TIMEZONE:Europe/Madrid
DESCRIPTION:Espectacle infantil al CasalEn Joan Alfred Mengual i la Núria Lozano ens faran veure que al bosc no s'hi val a badar, " Dins la panxa del llop" ens passeja per móns fantàstics i paisatges fabulosos, un retrat de la cadena alimentària amb humor i molta música.
Diumenge 1 de novembre a les 6 de la tarda, al Casal.
Entrada: 5€Lloc: SALA D'ACTES DEL CASALOrganitzador: PATRONAT DEL CASAL
URI:https://www.ullastrell.cat/actualitat/agenda/teatre-infantil-dins-la-panxa-del-llop.html
CLASS:PUBLIC
END:VEVENT
END:VCALENDAR
