BEGIN:VCALENDAR
VERSION:2.0
CALSCALE:GREGORIAN
PRODID:-//Diputació de Barcelona//DibaCMS//EN
BEGIN:VEVENT
UID:2567
DTSTAMP:20260423T091358
DTSTART:20151110T200000
DTEND:20151110T000000
SUMMARY:ENTREGA DE PREMIS DEL PRIMER CONCURS LITERARI
LOCATION:
METHOD:PUBLISH
X-WR-CALNAME:ullastrell@ullastrell.cat
X-WR-TIMEZONE:Europe/Madrid
DESCRIPTION:El dimarts 10 de novembre a les 8 de la tarda es portarà a terme a la Biblioteca l'entrega de premis del 1r. Concurs Literari organitzat per la Biblioteca Municipal Josep Massagué.
Després de l'entrega del premi, es farà la lectura del relat guanyador.
El jurat del concurs ha estat format per Carme Hernández Santamaría, Montse Rodó Amat i Rosa Massagué DalmasesLloc: BIBLIOTECA JOSEP MASSAGUÉOrganitzador: BIBLIOTECA JOSEP MASSAGUÉ
URI:https://www.ullastrell.cat/actualitat/agenda/entrega-de-premis-del-primer-concurs-literari.html
CLASS:PUBLIC
END:VEVENT
END:VCALENDAR
