BEGIN:VCALENDAR
VERSION:2.0
CALSCALE:GREGORIAN
PRODID:-//Diputació de Barcelona//DibaCMS//EN
BEGIN:VEVENT
UID:2568
DTSTAMP:20260423T015914
DTSTART:20151115T183000
DTEND:20151115T000000
SUMMARY:XXVII MOSTRA DE TEATRE: REVOLT PERILLÓS
LOCATION:
METHOD:PUBLISH
X-WR-CALNAME:ullastrell@ullastrell.cat
X-WR-TIMEZONE:Europe/Madrid
DESCRIPTION:XXVII MOSTRA DE TEATREComença la 27ena. edició de la Mostra de Teatre, organitzada pel GATU, amb l'obra : REVOLT PERILLÓS, interpretada pel grup Fatalitats de Viladecavalls.
Sinopsis: Londres, decada dels 30. Els Caplan una acabalada família, fan una festa en honor d'una famosa novel.lista. L'aparacició d'una caixa de cigarretes serà el desencadenant per la ubicació temporal de cada personatge en el descobriment d'una mort. Serà l'ordenament temporal el que portarà a descobrir tota la veritat.
Així mateix també es posa a la venda els abonaments per la temporada:

50€  - Adults
45€  - Jubilats/Estudiants/Carnet Jove
20€  - Infantil
Gratuït per als "Gatets"

Es poden adquirir:

Dijous 12 novembre: de 9 a 10 del vespre al Casal
Diumenge 15 novembre: a 2/4 de 6 de la tarda al Casal
Lloc: SALA ACTES DEL CASALOrganitzador: GATU
URI:https://www.ullastrell.cat/actualitat/agenda/xxvii-mostra-de-teatre-revolt-perillos.html
CLASS:PUBLIC
END:VEVENT
END:VCALENDAR
