BEGIN:VCALENDAR
VERSION:2.0
CALSCALE:GREGORIAN
PRODID:-//Diputació de Barcelona//DibaCMS//EN
BEGIN:VEVENT
UID:2569
DTSTAMP:20260423T044843
DTSTART:20151122T190000
DTEND:20151122T000000
SUMMARY:CINEMA: NUESTRO ÚLTIMO VERANO EN ESCOCIA
LOCATION:
METHOD:PUBLISH
X-WR-CALNAME:ullastrell@ullastrell.cat
X-WR-TIMEZONE:Europe/Madrid
DESCRIPTION:Projecció de cinemaDiumenge a les 7 de la tarda al Casal podreu gaudir d'aquesta bona pel.lícula.


Entrada: 5€
Apta per a tots els públics.

Lloc: SALA D'ACTES DEL CASALOrganitzador: PATRONAT DEL CASAL
URI:https://www.ullastrell.cat/actualitat/agenda/cinema-nuestro-ultimo-verano-en-escocia.html
CLASS:PUBLIC
END:VEVENT
END:VCALENDAR
