BEGIN:VCALENDAR
VERSION:2.0
CALSCALE:GREGORIAN
PRODID:-//Diputació de Barcelona//DibaCMS//EN
BEGIN:VEVENT
UID:2570
DTSTAMP:20260422T173400
DTSTART:20151125T000000
DTEND:20151125T000000
SUMMARY:TARDA DE TEATRE: " ELS VEÏNS DE DALT"
LOCATION:
METHOD:PUBLISH
X-WR-CALNAME:ullastrell@ullastrell.cat
X-WR-TIMEZONE:Europe/Madrid
DESCRIPTION:Tarda de Teatre: " Els veïns de dalt"La Colla de la Gent gran es desplaçarà al Teatre Romea de Barcelona per assistir a la representació de l'obra " Els veïns de dalt"Lloc: TEATRE ROMEA BARCELONAOrganitzador: COLLA DE LA GENT GRAN
URI:https://www.ullastrell.cat/actualitat/agenda/tarda-de-teatre--els-vens-de-dalt.html
CLASS:PUBLIC
END:VEVENT
END:VCALENDAR
