BEGIN:VCALENDAR
VERSION:2.0
CALSCALE:GREGORIAN
PRODID:-//Diputació de Barcelona//DibaCMS//EN
BEGIN:VEVENT
UID:2571
DTSTAMP:20260423T005641
DTSTART:20151129T183000
DTEND:20151129T000000
SUMMARY:XXVII MOSTRA DE TEATRE: " Les noies del calendari"
LOCATION:
METHOD:PUBLISH
X-WR-CALNAME:ullastrell@ullastrell.cat
X-WR-TIMEZONE:Europe/Madrid
DESCRIPTION:Dins la XXVII Mostra de Teatre amateur, el grup ACTE QUART de Granollers, ens presenta l'obra de Tim Firth " Les noies del calendari""Les noies del calendari"
A partir de la història real d'un grup de dones madures del Comtat de York Shire (Anglaterra) que, trencant amb la tradició i els prejudicis, van fer realitat l'agosarada idea de ser les models d'un calendari benèfic amb el nu artístic com a tema. Tot per recaptar diners contra la leucèmia en memòria del marit d'una d'elles.
 
Encara esteu a temps d'abonar-vos a la Mostra!

 50€  - Adults
 45€  - Jubilats/Estudiants/Carnet Jove
 20€  - Infantil
 Gratuït per als "Gatets"

 Lloc: SALA ACTES DEL CASALOrganitzador: GATU
URI:https://www.ullastrell.cat/actualitat/agenda/xxvii-mostra-de-teatre--les-noies-del-calendari.html
CLASS:PUBLIC
END:VEVENT
END:VCALENDAR
