BEGIN:VCALENDAR
VERSION:2.0
CALSCALE:GREGORIAN
PRODID:-//Diputació de Barcelona//DibaCMS//EN
BEGIN:VEVENT
UID:2572
DTSTAMP:20260422T185041
DTSTART:20151216T170000
DTEND:20151216T180000
SUMMARY:TALLER DE NADAL
LOCATION:
METHOD:PUBLISH
X-WR-CALNAME:ullastrell@ullastrell.cat
X-WR-TIMEZONE:Europe/Madrid
DESCRIPTION:Dimecres 16 de desembre de 5 a 6 de la tardaa la BibliotecaJosep MassaguéLloc: Biblioteca Josep MassaguéOrganitzador: Biblioteca Josep Massagué - Bibliobus
URI:https://www.ullastrell.cat/actualitat/agenda/taller-de-nadal.html
CLASS:PUBLIC
END:VEVENT
END:VCALENDAR
