BEGIN:VCALENDAR
VERSION:2.0
CALSCALE:GREGORIAN
PRODID:-//Diputació de Barcelona//DibaCMS//EN
BEGIN:VEVENT
UID:2573
DTSTAMP:20260422T174850
DTSTART:20151213T183000
DTEND:20151213T000000
SUMMARY:XXVII Mostra de Teatre "L'HOME, LA BÈSTIA I LA VIRTUT"
LOCATION:
METHOD:PUBLISH
X-WR-CALNAME:ullastrell@ullastrell.cat
X-WR-TIMEZONE:Europe/Madrid
DESCRIPTION:El grup ENCERT de Sabadell ens portarà aquesta obra de teatre de Luigi Pirandello.
SINOPSIS:
"Paolino és un professor respectable que amaga un secret: està enamorat de la Sra. Perella, la mare d'un dels seus alumnes, casada amb un marit que duu una doble vida. Un fet inesperat els obligarà a organitzar un divertit i inesperat sopar a tres bandes."
Si no ho heu fet, encara esteu a temps d'abonar-vos a la Mostra!!
 Lloc: Sala d'Actes del CasalOrganitzador: GATU
URI:https://www.ullastrell.cat/actualitat/agenda/xxvii-mostra-de-teatre-lhome-la-bestia-i-la-virtut.html
CLASS:PUBLIC
END:VEVENT
END:VCALENDAR
