BEGIN:VCALENDAR
VERSION:2.0
CALSCALE:GREGORIAN
PRODID:-//Diputació de Barcelona//DibaCMS//EN
BEGIN:VEVENT
UID:2574
DTSTAMP:20260422T162050
DTSTART:20151217T213000
DTEND:20151217T000000
SUMMARY:Els DIJOUS CULTURALS del Casal
LOCATION:
METHOD:PUBLISH
X-WR-CALNAME:ullastrell@ullastrell.cat
X-WR-TIMEZONE:Europe/Madrid
DESCRIPTION:"Quins valors transmeten les joguines d'avui dia?"
amb Agnès PlanasAmb aquesta xerrada es tornen a reempendre els Dijous Culturals, aquest mes a càrrec de l'Agnès Planas que ens parlarà de la importància de les joguines dels nostres infants.
S'acosten dies de regals i molts d'ells són joguines, així que us convidem a venir a escoltar, en aquest Dijous Cultural, tot allò que envolta les joguines per afavorir el desenvolupament més complet dels nostres petits.
 Lloc: Biblioteca Josep MassaguéOrganitzador: Casal Cultural
URI:https://www.ullastrell.cat/actualitat/agenda/els-dijous-culturals-del-casal.html
CLASS:PUBLIC
END:VEVENT
END:VCALENDAR
