BEGIN:VCALENDAR
VERSION:2.0
CALSCALE:GREGORIAN
PRODID:-//Diputació de Barcelona//DibaCMS//EN
BEGIN:VEVENT
UID:2575
DTSTAMP:20260423T021039
DTSTART:20160123T220000
DTEND:20160123T000000
SUMMARY:Espectacle Reugenio: "Reubicando al genio!"
LOCATION:
METHOD:PUBLISH
X-WR-CALNAME:ullastrell@ullastrell.cat
X-WR-TIMEZONE:Europe/Madrid
DESCRIPTION:VINE A RIURE UNA ESTONA AMB REUGENIO I EL SEU ESPECTACLE "REUBICANDO AL GENIO"
US ESPEREM A LA  SALA D'ACTES DEL CASAL CULTURAL I RECREATIU D'ULLASTRELL.
El dissabte 23 de gener de 2016  a les 22h.

 
PREU ENTRADES:
10€ - anticipades, a l'Ajuntament d'Ullastrell a partir del 13 de gener.
15€ - a taquilla, a partir de les 21:30h. del mateix dia 23 de gener.
Entrades numerades.Lloc: Casal CulturalOrganitzador: Reg. Cultura
URI:https://www.ullastrell.cat/actualitat/agenda/espectacle-reugenio-reubicando-al-genio.html
CLASS:PUBLIC
END:VEVENT
END:VCALENDAR
