BEGIN:VCALENDAR
VERSION:2.0
CALSCALE:GREGORIAN
PRODID:-//Diputació de Barcelona//DibaCMS//EN
BEGIN:VEVENT
UID:2576
DTSTAMP:20260423T005132
DTSTART:20160131T183000
DTEND:20160131T000000
SUMMARY:El Grup de Teatre PAM de Terrassa presenta LA FILLA DEL MAR d'Àngel Guimerà
LOCATION:
METHOD:PUBLISH
X-WR-CALNAME:ullastrell@ullastrell.cat
X-WR-TIMEZONE:Europe/Madrid
DESCRIPTION:Diumenge 31 de gener del 2016 a 2/4 de 7 de la tarda al Casal Cultural
El Grup de Teatre PAM de Terrassa presenta LA FILLA DEL MAR d'Àngel Guimerà
Amb aquesta obra, i una vegada més, veiem com els drames clàssics ens parlen de la immensa capacitat dels humans per destruir allò més bonic que tenim: la capacitat d’estimar. Sorprès i meravellat per la implicació, el talent, i el treball que heu fet tots i cada un dels que heu participat en el muntatge, us vull felicitar i donar les gràcies. També vull donar les gràcies a les famílies que amb la vostra paciència ens permeteu assajar i manllevar-vos hores. I també tinc un record per aquells que ja no hi sou, però que m’heu ensenyat la importància d’estimar d’una forma sana i sense rancúnies. A tots us vull dir que estic convençut que mai ningú, encara que ja ho han intentat, podrà destruir la meva capacitat d’estimar-vos. Xavier Pallejà i Ortega

Caterina: Sílvia Bartés
Filomena: Lídia Santasusagna
Lluïseta: Ariadna Folch
Mòllera: Xavier Palà
Rufet: Francesc Muntada
Mariona: Alba Flomesta
Pere Màrtir: Rubèn Santasusagna
Cinquenes: Salvador Ribas
Gregori: Xavier Cayuela
Baltasanet: Joan Martínez
Àgata Cori: Muntada
Homes: Aurelio Rodríguez, Dante Romero Xavier Pallejà, Nolo
Vestuari: Pilar Martí
Escenografia: El Martínes i El Nolo
Llums i so: Conrad Muntada
Utilleria: Joan Terrats, Xavi Palà
Tramoies: Aurelio Rodríguez, Dante Romero
Ajdt direcció: Mercè Badia
Direcció: Xavier Pallejà
Lloc: Casal CulturalOrganitzador: GATU
URI:https://www.ullastrell.cat/actualitat/agenda/el-grup-de-teatre-pam-de-terrassa-presenta-la-filla-del-mar-dangel-guimera.html
CLASS:PUBLIC
END:VEVENT
END:VCALENDAR
