BEGIN:VCALENDAR
VERSION:2.0
CALSCALE:GREGORIAN
PRODID:-//Diputació de Barcelona//DibaCMS//EN
BEGIN:VEVENT
UID:2577
DTSTAMP:20260423T044243
DTSTART:20160220T100000
DTEND:20160221T000000
SUMMARY:CAP DE SETMANA DE TREBALL
LOCATION:
METHOD:PUBLISH
X-WR-CALNAME:ullastrell@ullastrell.cat
X-WR-TIMEZONE:Europe/Madrid
DESCRIPTION:La Coral marxa un cap de setmana a treballar en equip per a preparar nou repertori!Lloc: GURB DE LA PLANAOrganitzador: CORAL ULLASTRELL
URI:https://www.ullastrell.cat/actualitat/agenda/cap-de-setmana-de-treball.html
CLASS:PUBLIC
END:VEVENT
END:VCALENDAR
