BEGIN:VCALENDAR
VERSION:2.0
CALSCALE:GREGORIAN
PRODID:-//Diputació de Barcelona//DibaCMS//EN
BEGIN:VEVENT
UID:2578
DTSTAMP:20260423T064646
DTSTART:20160221T183000
DTEND:20160221T000000
SUMMARY:XXVIIª MOSTRA DE TREATRE
LOCATION:
METHOD:PUBLISH
X-WR-CALNAME:ullastrell@ullastrell.cat
X-WR-TIMEZONE:Europe/Madrid
DESCRIPTION:Dins la XXVIIª Mostra de Teatre, ens presenten l'obra "1714-300 anys de setge". 
Un espectacle de gran format basat en els fets del setge de Barcelona de 1714 i de les seves nefastes consequències que per Catalunya va tenir el seu desenllaç.Lloc: Sala Actes del Casal Cultural - UllastrellOrganitzador: GATU
URI:https://www.ullastrell.cat/actualitat/agenda/xxviia-mostra-de-treatre.html
CLASS:PUBLIC
END:VEVENT
END:VCALENDAR
