BEGIN:VCALENDAR
VERSION:2.0
CALSCALE:GREGORIAN
PRODID:-//Diputació de Barcelona//DibaCMS//EN
BEGIN:VEVENT
UID:2579
DTSTAMP:20260423T035039
DTSTART:20160304T223000
DTEND:20160304T000000
SUMMARY:TEATRE - El Jardí de les Malícies
LOCATION:
METHOD:PUBLISH
X-WR-CALNAME:ullastrell@ullastrell.cat
X-WR-TIMEZONE:Europe/Madrid
DESCRIPTION:Dins els actes de les Festes de Serralavella 2016 el GATU ens convida a veure l'obra "El Jardí de les Malícies" que en presentarà el grup teatral Al Detall.
Espectacle basat en el llibre "El jardí de les malícies de la poesia eròtica universal" de Miquel Desclot.
*No recomanat per a menors de 12 anys.
 
ENTRADES:

7€ - Entrada general
5€ - Entrada Abonats a LA MOSTRA

Entrades no numerades. El primer que arriba, el primer que seu!Lloc: Sala Actes del CasalOrganitzador: GATU  
URI:https://www.ullastrell.cat/actualitat/agenda/teatre-el-jardi-de-les-malicies.html
CLASS:PUBLIC
END:VEVENT
END:VCALENDAR
