BEGIN:VCALENDAR
VERSION:2.0
CALSCALE:GREGORIAN
PRODID:-//Diputació de Barcelona//DibaCMS//EN
BEGIN:VEVENT
UID:2580
DTSTAMP:20260422T201219
DTSTART:20160302T220000
DTEND:20160302T000000
SUMMARY:JAZZ - Mathilde Toussaint Quartet
LOCATION:
METHOD:PUBLISH
X-WR-CALNAME:ullastrell@ullastrell.cat
X-WR-TIMEZONE:Europe/Madrid
DESCRIPTION:Dins els actes de les XIª Festes de Serralavella i el 35è Festival de Jazz Terrassa, Ullastrell s'estrena com a nou escenari amb MATHILDE TOUSSAINT QUARTET.

Mathilde Toussaint, veu
Sergi Sirvent, piano
Jordi Mestres, contrabaix
Ramiro Rosa, bateria


Veniu a gaudir d'una bona vetllada!Lloc: Bar del Casal Cultural d'UllastrellOrganitzador: Jazz Terrassa  - Cumi. Serralavella
URI:https://www.ullastrell.cat/actualitat/agenda/jazz-mathilde-toussaint-quartet.html
CLASS:PUBLIC
END:VEVENT
END:VCALENDAR
